BEGIN:VCALENDAR
VERSION:2.0
PRODID:-//JRI-Poland - ECPv6.15.16//NONSGML v1.0//EN
CALSCALE:GREGORIAN
METHOD:PUBLISH
X-WR-CALNAME:JRI-Poland
X-ORIGINAL-URL:https://jri-poland.org
X-WR-CALDESC:Events for JRI-Poland
REFRESH-INTERVAL;VALUE=DURATION:PT1H
X-Robots-Tag:noindex
X-PUBLISHED-TTL:PT1H
BEGIN:VTIMEZONE
TZID:America/New_York
BEGIN:DAYLIGHT
TZOFFSETFROM:-0500
TZOFFSETTO:-0400
TZNAME:EDT
DTSTART:20250309T070000
END:DAYLIGHT
BEGIN:STANDARD
TZOFFSETFROM:-0400
TZOFFSETTO:-0500
TZNAME:EST
DTSTART:20251102T060000
END:STANDARD
BEGIN:DAYLIGHT
TZOFFSETFROM:-0500
TZOFFSETTO:-0400
TZNAME:EDT
DTSTART:20260308T070000
END:DAYLIGHT
BEGIN:STANDARD
TZOFFSETFROM:-0400
TZOFFSETTO:-0500
TZNAME:EST
DTSTART:20261101T060000
END:STANDARD
BEGIN:DAYLIGHT
TZOFFSETFROM:-0500
TZOFFSETTO:-0400
TZNAME:EDT
DTSTART:20270314T070000
END:DAYLIGHT
BEGIN:STANDARD
TZOFFSETFROM:-0400
TZOFFSETTO:-0500
TZNAME:EST
DTSTART:20271107T060000
END:STANDARD
END:VTIMEZONE
BEGIN:VEVENT
DTSTART;TZID=America/New_York:20260517T120000
DTEND;TZID=America/New_York:20260517T140000
DTSTAMP:20260422T181203
CREATED:20260421T185230Z
LAST-MODIFIED:20260422T152029Z
UID:6185-1779019200-1779026400@jri-poland.org
SUMMARY:City of Łódź Research Area Town Hall Meeting
DESCRIPTION:If you are interested in the City of Łódź\, Poland or its surrounding suburb towns\, you are cordially invited to join us for a City of Łódź Town Hall Meeting\, on Sunday\, May 17\, 2026 at 12 pm Eastern (USA) for 90 minutes. You must have an active JRI-Poland (free) user account to attend\, but for this particular session\, you do not need to be a paying JRI-Poland member. \nLed by our City of Łódź Research Area Coordinator\, Joe Ross\, this session will be a briefing on the current status of JRI-Poland’s City of Łódź projects and a discussion of potential upcoming projects. Like a traditional “town hall meeting”\, this session aims to give Łódź researchers the opportunity to weigh in and comment on their/your Łódź research interests. \nAs the fourth largest city in Poland today\, Łódź continues to play its historically important role as an industrial area and has a colorful Jewish and economic history. Many of us understand the history of Polish industrialization through the lens of Israel Joshua Singer’s classic\, “The Brothers Ashkenazi” which focuses on the building of industry in Łódź from the late 19th century through the end of World War I when the Jewish Community of Łódź boomed. \nCome join us to learn more about this fascinating and important city and the surviving traces of the rich Jewish heritage there. \nPlease log in to your JRI-Poland account and then register below by clicking the BLUE button that says “Going”. We know it’s confusing\, but you are not registered until you press the button and confirm your JRI-Poland contact information. Within a few minutes of registering\, you should receive a reply email that uses the word “Tickets” in the subject line and will include a Zoom link for the event. \nIf you do not receive a “Ticket” email with the Zoom link – Please check your Spam and “Purchases” folders before using the JRI-Poland AI chat widget in the lower right corner of our webpages. Ask JeRI-bot to send a message to a human telling us you didn’t receive a Zoom link. \nWe will send a reminder message with a copy of the Zoom link within 2 days of the event for your added convenience. \nImage Attribution:  The above image was found in the Wikipedia and is in the public domain. The seal of the town since 1577\, it depicts a boat – which is the literal translation of the Polish word “Łódź”.  \n 
URL:https://jri-poland.org/event/city-of-lodz-research-area-town-hall-meeting/
CATEGORIES:Public
ATTACH;FMTTYPE=image/jpeg:https://jri-poland.org/wp-content/uploads/2026/04/Lodz1577.jpg
LOCATION:https://jri-poland.org/event/city-of-lodz-research-area-town-hall-meeting/
END:VEVENT
END:VCALENDAR